BEGIN:VCALENDAR
PRODID:-//Microsoft Corporation//Outlook MIMEDIR//EN
VERSION:2.0
METHOD:PUBLISH
BEGIN:VEVENT
DTSTART:20260421T174500
DTEND:20260421T184500
DESCRIPTION:
LOCATION:CITY HALL, 2nd Floor
SUMMARY:City Council
CATEGORIES:MEETING
END:VEVENT
END:VCALENDAR
